BEGIN:VCALENDAR
VERSION:2.0
PRODID:-//Meadville Lombard Theological School - ECPv6.15.18//NONSGML v1.0//EN
CALSCALE:GREGORIAN
METHOD:PUBLISH
X-WR-CALNAME:Meadville Lombard Theological School
X-ORIGINAL-URL:https://meadville.edu
X-WR-CALDESC:Events for Meadville Lombard Theological School
REFRESH-INTERVAL;VALUE=DURATION:PT1H
X-Robots-Tag:noindex
X-PUBLISHED-TTL:PT1H
BEGIN:VTIMEZONE
TZID:America/Chicago
BEGIN:DAYLIGHT
TZOFFSETFROM:-0600
TZOFFSETTO:-0500
TZNAME:CDT
DTSTART:20250309T080000
END:DAYLIGHT
BEGIN:STANDARD
TZOFFSETFROM:-0500
TZOFFSETTO:-0600
TZNAME:CST
DTSTART:20251102T070000
END:STANDARD
BEGIN:DAYLIGHT
TZOFFSETFROM:-0600
TZOFFSETTO:-0500
TZNAME:CDT
DTSTART:20260308T080000
END:DAYLIGHT
BEGIN:STANDARD
TZOFFSETFROM:-0500
TZOFFSETTO:-0600
TZNAME:CST
DTSTART:20261101T070000
END:STANDARD
BEGIN:DAYLIGHT
TZOFFSETFROM:-0600
TZOFFSETTO:-0500
TZNAME:CDT
DTSTART:20270314T080000
END:DAYLIGHT
BEGIN:STANDARD
TZOFFSETFROM:-0500
TZOFFSETTO:-0600
TZNAME:CST
DTSTART:20271107T070000
END:STANDARD
END:VTIMEZONE
BEGIN:VEVENT
DTSTART;VALUE=DATE:20260323
DTEND;VALUE=DATE:20260502
DTSTAMP:20260423T015341
CREATED:20260226T024347Z
LAST-MODIFIED:20260226T024347Z
UID:10000056-1774224000-1777679999@meadville.edu
SUMMARY:Summer registration for ALL students
DESCRIPTION: \n\n 								\n					\n				\n				\n						\n					\n			\n						\n										\n						\n									<< Back to LIGHT Events\n					\n					\n								\n				\n				\n					\n	\n				\n				\n				\n				\n					\n	Responsible Leadership Summer Series Workshop 3				\n				\n				\n					Ethical Financial Decision Making				\n				\n				\n					\n		\n			September 26\n\n	\n\n	 @ \n\n\n12:00 pm\n\n		\n\n\n\n	\n	 - \n\n1:00 pm\n\n\n\n	\n				\n				\n				\n									Financial decisions in faith communities are never only about numbers—how can leaders ensure their financial practices reflect love at the center? “Ethical Financial Decision Making” invites religious and lay leaders to explore how transparency\, accountability\, and moral discernment shape faithful stewardship of resources. In this one-hour session\, participants will consider practical approaches that support trust and integrity within their communities.  								\n				\n										\n						\n									Registration\n					\n					\n								\n				\n						\n					\n			\n						\n				\n					\n	\n\n	Categories:	\n		LIGHT Courses	\n\n				\n				\n					\n		\n					\n		\n				\n						\n					\n			\n						\n				\n					\n	\n		\n\n	\n	Add to calendar	\n		\n	\n\n		\n			\n									\n	Google Calendar\n\n									\n	iCalendar\n\n									\n	Outlook 365\n\n									\n	Outlook Live\n\n							\n		\n\n		\n	\n\n				\n				\n					\n		\n					\n		\n				\n						\n					\n			\n						\n				\n					\n	\n		\n\n				Summer grades due
URL:https://meadville.edu/event/summer-registration-for-all-students/
CATEGORIES:Academic Calendar
END:VEVENT
END:VCALENDAR