BEGIN:VCALENDAR
VERSION:2.0
PRODID:-//Meadville Lombard Theological School - ECPv6.15.18//NONSGML v1.0//EN
CALSCALE:GREGORIAN
METHOD:PUBLISH
X-WR-CALNAME:Meadville Lombard Theological School
X-ORIGINAL-URL:https://meadville.edu
X-WR-CALDESC:Events for Meadville Lombard Theological School
REFRESH-INTERVAL;VALUE=DURATION:PT1H
X-Robots-Tag:noindex
X-PUBLISHED-TTL:PT1H
BEGIN:VTIMEZONE
TZID:America/Chicago
BEGIN:DAYLIGHT
TZOFFSETFROM:-0600
TZOFFSETTO:-0500
TZNAME:CDT
DTSTART:20250309T080000
END:DAYLIGHT
BEGIN:STANDARD
TZOFFSETFROM:-0500
TZOFFSETTO:-0600
TZNAME:CST
DTSTART:20251102T070000
END:STANDARD
BEGIN:DAYLIGHT
TZOFFSETFROM:-0600
TZOFFSETTO:-0500
TZNAME:CDT
DTSTART:20260308T080000
END:DAYLIGHT
BEGIN:STANDARD
TZOFFSETFROM:-0500
TZOFFSETTO:-0600
TZNAME:CST
DTSTART:20261101T070000
END:STANDARD
BEGIN:DAYLIGHT
TZOFFSETFROM:-0600
TZOFFSETTO:-0500
TZNAME:CDT
DTSTART:20270314T080000
END:DAYLIGHT
BEGIN:STANDARD
TZOFFSETFROM:-0500
TZOFFSETTO:-0600
TZNAME:CST
DTSTART:20271107T070000
END:STANDARD
END:VTIMEZONE
BEGIN:VEVENT
DTSTART;TZID=America/Chicago:20260721T100000
DTEND;TZID=America/Chicago:20260721T110000
DTSTAMP:20260422T034934
CREATED:20260422T054706Z
LAST-MODIFIED:20260422T054916Z
UID:6746-1784628000-1784631600@meadville.edu
SUMMARY:Responsible Leadership Summer Series Workshop 2
DESCRIPTION:<< Back to LIGHT Events\n					\n					\n								\n				\n				\n					\n	\n				\n				\n				\n				\n					\n	Responsible Leadership Summer Series Workshop 2				\n				\n				\n					Strategic Governance Through an Equity Lens				\n				\n				\n					\n		\n			July 21\n\n	\n\n	 @ \n\n\n10:00 am\n\n		\n\n\n\n	\n	 - \n\n11:00 am\n\n\n\n	\n				\n				\n				\n									How can faith communities ensure that their governance practices reflect their deepest commitments to justice\, dignity\, and shared leadership? “Strategic Governance Through an Equity Lens” invites religious and lay leaders to examine how decision-making structures\, policies\, and leadership practices can either reinforce or challenge inequity. In this one-hour session\, participants will explore practical approaches to governance that promote greater inclusion.  								\n				\n										\n						\n									Registration\n					\n					\n								\n				\n						\n					\n			\n						\n				\n					\n	\n\n	Categories:	\n		LIGHT Courses	\n\n				\n				\n					\n		\n					\n		\n				\n						\n					\n			\n						\n				\n					\n	\n		\n\n	\n	Add to calendar	\n		\n	\n\n		\n			\n									\n	Google Calendar\n\n									\n	iCalendar\n\n									\n	Outlook 365\n\n									\n	Outlook Live\n\n							\n		\n\n		\n	\n\n				\n				\n					\n		\n					\n		\n				\n						\n					\n			\n						\n				\n					\n	\n		\n\n				Pilgrimage in Kildare\, Ireland	\n\n\n		\n	\n		Summer term ends
URL:https://meadville.edu/event/responsible-leadership-summer-series-workshop-2/
CATEGORIES:LIGHT Courses
ATTACH;FMTTYPE=image/jpeg:https://meadville.edu/wp-content/uploads/2026/04/team.jpg
END:VEVENT
END:VCALENDAR