BEGIN:VCALENDAR
VERSION:2.0
PRODID:-//Meadville Lombard Theological School - ECPv6.15.18//NONSGML v1.0//EN
CALSCALE:GREGORIAN
METHOD:PUBLISH
X-WR-CALNAME:Meadville Lombard Theological School
X-ORIGINAL-URL:https://meadville.edu
X-WR-CALDESC:Events for Meadville Lombard Theological School
REFRESH-INTERVAL;VALUE=DURATION:PT1H
X-Robots-Tag:noindex
X-PUBLISHED-TTL:PT1H
BEGIN:VTIMEZONE
TZID:America/Chicago
BEGIN:DAYLIGHT
TZOFFSETFROM:-0600
TZOFFSETTO:-0500
TZNAME:CDT
DTSTART:20250309T080000
END:DAYLIGHT
BEGIN:STANDARD
TZOFFSETFROM:-0500
TZOFFSETTO:-0600
TZNAME:CST
DTSTART:20251102T070000
END:STANDARD
BEGIN:DAYLIGHT
TZOFFSETFROM:-0600
TZOFFSETTO:-0500
TZNAME:CDT
DTSTART:20260308T080000
END:DAYLIGHT
BEGIN:STANDARD
TZOFFSETFROM:-0500
TZOFFSETTO:-0600
TZNAME:CST
DTSTART:20261101T070000
END:STANDARD
BEGIN:DAYLIGHT
TZOFFSETFROM:-0600
TZOFFSETTO:-0500
TZNAME:CDT
DTSTART:20270314T080000
END:DAYLIGHT
BEGIN:STANDARD
TZOFFSETFROM:-0500
TZOFFSETTO:-0600
TZNAME:CST
DTSTART:20271107T070000
END:STANDARD
END:VTIMEZONE
BEGIN:VEVENT
DTSTART;TZID=America/Chicago:20260507T170000
DTEND;TZID=America/Chicago:20260507T180000
DTSTAMP:20260422T034046
CREATED:20260422T053941Z
LAST-MODIFIED:20260422T054530Z
UID:6741-1778173200-1778176800@meadville.edu
SUMMARY:Responsible Leadership Summer Series Workshop 1
DESCRIPTION:<< Back to LIGHT Events\n					\n					\n								\n				\n				\n					\n	\n				\n				\n				\n				\n					\n	Responsible Leadership Summer Series Workshop 1				\n				\n				\n					Ministry in Motion: Leading Volunteers in Faith Communities				\n				\n				\n					\n		\n			May 7\n\n	\n\n	 @ \n\n\n5:00 pm\n\n		\n\n\n\n	\n	 - \n\n6:00 pm\n\n\n\n	\n				\n				\n				\n									Ministry often depends on volunteers—but how do faith leaders inspire\, coordinate\, and sustain the people who make ministry possible? “Ministry in Motion: Leading Volunteers in Faith Communities” explores practical strategies to nurture a shared sense of purpose and calling. In this one-hour session\, participants will gain tools for building healthy volunteer cultures that strengthen both leadership and community impact.  								\n				\n										\n						\n									Registration\n					\n					\n								\n				\n						\n					\n			\n						\n				\n					\n	\n\n	Categories:	\n		LIGHT Courses	\n\n				\n				\n					\n		\n					\n		\n				\n						\n					\n			\n						\n				\n					\n	\n		\n\n	\n	Add to calendar	\n		\n	\n\n		\n			\n									\n	Google Calendar\n\n									\n	iCalendar\n\n									\n	Outlook 365\n\n									\n	Outlook Live\n\n							\n		\n\n		\n	\n\n				\n				\n					\n		\n					\n		\n				\n						\n					\n			\n						\n				\n					\n	\n		\n\n				Commissioning of the Spiritual Direction Formation & Certification Program	\n\n\n		\n	\n		Graduates: All work is due
URL:https://meadville.edu/event/responsible-leadership-summer-series-workshop-1/
LOCATION:Online
CATEGORIES:LIGHT Courses
ATTACH;FMTTYPE=image/jpeg:https://meadville.edu/wp-content/uploads/2026/04/non-profit-management.jpg
END:VEVENT
END:VCALENDAR